BEGIN:VCALENDAR
VERSION:2.0
PRODID:-//Dentales Market S.A.S - ECPv6.15.20//NONSGML v1.0//EN
CALSCALE:GREGORIAN
METHOD:PUBLISH
X-WR-CALNAME:Dentales Market S.A.S
X-ORIGINAL-URL:https://dentalesmarket.com
X-WR-CALDESC:Eventos para Dentales Market S.A.S
REFRESH-INTERVAL;VALUE=DURATION:PT1H
X-Robots-Tag:noindex
X-PUBLISHED-TTL:PT1H
BEGIN:VTIMEZONE
TZID:America/Bogota
BEGIN:STANDARD
TZOFFSETFROM:-0500
TZOFFSETTO:-0500
TZNAME:-05
DTSTART:20250101T000000
END:STANDARD
END:VTIMEZONE
BEGIN:VEVENT
DTSTART;TZID=America/Bogota:20260317T090000
DTEND;TZID=America/Bogota:20260317T120000
DTSTAMP:20260421T190921
CREATED:20260212T162346Z
LAST-MODIFIED:20260212T162346Z
UID:20980-1773738000-1773748800@dentalesmarket.com
SUMMARY:Estratificación y simplificación Técnica clínica y toma de decisiones para resultados predecibles.
DESCRIPTION:Conferencista: Dr. Edgar H. Meneses Silva\n* Especialista en Rehabilitación Oral – U. El Bosque\n* Director Especialización en Rehabilitación Oral – UNICOC Cali\n* 12 años de experiencia docente\n* Líder de Opinión Solventum \nCargando…
URL:https://dentalesmarket.com/evento/estratificacion-y-simplificacion-tecnica-clinica-y-toma-de-decisiones-para-resultados-predecibles/
LOCATION:Club Colombia Cali\, Avenida 3a Norte #16N-23\, Colombia
END:VEVENT
BEGIN:VEVENT
DTSTART;TZID=America/Bogota:20260324T090000
DTEND;TZID=America/Bogota:20260324T120000
DTSTAMP:20260421T190921
CREATED:20260224T170600Z
LAST-MODIFIED:20260224T173541Z
UID:21039-1774342800-1774353600@dentalesmarket.com
SUMMARY:Conferencia Académica Clarity™ Attachment Material - Precisión\, estética y control en cada movimiento
DESCRIPTION:Dra. Sandra Salazar \n\nLicenciatura en Odontología – Pontificia Universidad Javeriana\nEspecialista en Ortodoncia – Pontificia Universidad Javeriana\n3M OCSD Clinical Specialist – Región Andina\n\nCargando…
URL:https://dentalesmarket.com/evento/conferencia-academica-clarity-attachment-material-precision-estetica-y-control-en-cada-movimiento/
LOCATION:Institución Universitaria Visión de las Américas\, Calle 34A #76-35\, Medellín\, Antioquia\, 050032\, Colombia
END:VEVENT
BEGIN:VEVENT
DTSTART;TZID=America/Bogota:20260325T083000
DTEND;TZID=America/Bogota:20260325T123000
DTSTAMP:20260421T190921
CREATED:20260217T172701Z
LAST-MODIFIED:20260217T194933Z
UID:20999-1774427400-1774441800@dentalesmarket.com
SUMMARY:Pereira: Estratificación y técnica: su impacto en las restauraciones de alta estética.
DESCRIPTION:Conferencista: Dr. Jorge Hernán López Velásquez \n* Doctor en Odontología. Pontificia Universidad Javeriana\, Bogotá\, Colombia\, 1988\,\n* Prostodoncista. Fundación CIEO\, Bogotá\, Colombia\, 1994\n* Especialista en Dentística. ABO Goias\, Goiania\, Brasil\, 2019\,\n* Capacitación técnica. Cusp Dental Research\, Nueva York\, 1999\,\n* Formación técnica. Centro de formación Ivoclar Vivadent\, Liechtenstein\, 2000\,\n* Formación técnica E-max. Centro de formación Ivoclar Vivadent\, Liechtenstein\, 2006
URL:https://dentalesmarket.com/evento/pereira-estratificacion-y-tecnica-su-impacto-en-las-restauraciones-de-alta-estetica/
LOCATION:Hotel Movich\, Cra. 13 #15-71
END:VEVENT
BEGIN:VEVENT
DTSTART;TZID=America/Bogota:20260325T160000
DTEND;TZID=America/Bogota:20260325T180000
DTSTAMP:20260421T190921
CREATED:20260217T171124Z
LAST-MODIFIED:20260217T172652Z
UID:20998-1774454400-1774461600@dentalesmarket.com
SUMMARY:Manizales: Estratificación y técnica: su impacto en las restauraciones de alta estética
DESCRIPTION:Conferencista: Dr. Jorge Hernán López Velásquez \n* Doctor en Odontología. Pontificia Universidad Javeriana\, Bogotá\, Colombia\, 1988\,\n* Prostodoncista. Fundación CIEO\, Bogotá\, Colombia\, 1994\n* Especialista en Dentística. ABO Goias\, Goiania\, Brasil\, 2019\,\n* Capacitación técnica. Cusp Dental Research\, Nueva York\, 1999\,\n* Formación técnica. Centro de formación Ivoclar Vivadent\, Liechtenstein\, 2000\,\n* Formación técnica E-max. Centro de formación Ivoclar Vivadent\, Liechtenstein\, 2006 \nCargando…
URL:https://dentalesmarket.com/evento/estratificacion-y-tecnica-su-impacto-en-las-restauraciones-de-alta-estetica/
LOCATION:Hotel Quo Quality\, Calle 66a No. 26 A 28 Palermo
END:VEVENT
END:VCALENDAR