BEGIN:VCALENDAR
VERSION:2.0
PRODID:-//Dentales Market S.A.S - ECPv6.15.20//NONSGML v1.0//EN
CALSCALE:GREGORIAN
METHOD:PUBLISH
X-WR-CALNAME:Dentales Market S.A.S
X-ORIGINAL-URL:https://dentalesmarket.com
X-WR-CALDESC:Eventos para Dentales Market S.A.S
REFRESH-INTERVAL;VALUE=DURATION:PT1H
X-Robots-Tag:noindex
X-PUBLISHED-TTL:PT1H
BEGIN:VTIMEZONE
TZID:America/Bogota
BEGIN:STANDARD
TZOFFSETFROM:-0500
TZOFFSETTO:-0500
TZNAME:-05
DTSTART:20240101T000000
END:STANDARD
END:VTIMEZONE
BEGIN:VEVENT
DTSTART;TZID=America/Bogota:20251112T080000
DTEND;TZID=America/Bogota:20251112T110000
DTSTAMP:20260422T143333
CREATED:20251008T141919Z
LAST-MODIFIED:20251014T164413Z
UID:20088-1762934400-1762945200@dentalesmarket.com
SUMMARY:Ortho Insights 2025 - Mecánicas eficientes con sistemas de autoligado
DESCRIPTION:Dr. Rafael Sandoval \n\n\nLicenciatura de Cirujano DentistaUniversidad de Guadalajara – México \n\n\nEspecialidad en OrtodonciaUniversidad de Baja California \n\n\nCurso Internacional Filosofía MBT –Dr. Hugo Trevisi\, Presidente Prudente Brasil \n\n\nDocente Especialidad OrtodonciaUniversidad Autónoma de Guadalajara (2012 – 2021) \n\n\nDocente Postgrado Universidad de Guadalajara \n\n\nCargando…
URL:https://dentalesmarket.com/evento/ortho-insights-2025-mecanicas-eficientes-con-sistemas-de-autoligado/
LOCATION:Privado: Medellín
END:VEVENT
BEGIN:VEVENT
DTSTART;TZID=America/Bogota:20251113T083000
DTEND;TZID=America/Bogota:20251113T170000
DTSTAMP:20260422T143333
CREATED:20251009T143143Z
LAST-MODIFIED:20251104T164131Z
UID:20153-1763022600-1763053200@dentalesmarket.com
SUMMARY:Discovery Day Dexis - 13  de Noviembre
DESCRIPTION:Vive un día de innovación y aprendizaje en odontología digital: \n\nDemostraciones en vivo\nWorkshops prácticos\nCasos clínicos reales\nNetworking con colegas\nPrepárate para un día de descubrimiento\, innovación y aprendizaje que marcará un antes y un después en tu práctica clínica.\n\nCargando…
URL:https://dentalesmarket.com/evento/discovery-day-dexis-13-noviembre/
LOCATION:Hotel NH Collection\, Cra. 42 #5 - sur 130\, El Poblado\, Medellín\, Antioquia\, 050032\, Colombia
END:VEVENT
BEGIN:VEVENT
DTSTART;TZID=America/Bogota:20251120T080000
DTEND;TZID=America/Bogota:20251120T120000
DTSTAMP:20260422T143333
CREATED:20251104T193349Z
LAST-MODIFIED:20251104T205031Z
UID:20632-1763625600-1763640000@dentalesmarket.com
SUMMARY:Desafíos restaurativos de la práctica diaria con alta exigencia estética ( Soluciones innovadoras y de alto desempeño )
DESCRIPTION:Speaker : Natalia Martinez \n\nOdontólogo Universidad El Valle\nEspecialista en Operatoria Dental y Estética y Biomateriales Dentales – Univ. El Bosque\nEspecialista Clínica – Solventum\nPráctica Privada – Clínica
URL:https://dentalesmarket.com/evento/desafios-restaurativos-de-la-practica-diaria-con-alta-exigencia-estetica-soluciones-innovadoras-y-de-alto-desempeno/
LOCATION:Club Colombia\, Av. 3a Nte. #16N-23\, Cali
END:VEVENT
BEGIN:VEVENT
DTSTART;TZID=America/Bogota:20251127T083000
DTEND;TZID=America/Bogota:20251127T120000
DTSTAMP:20260422T143333
CREATED:20251009T161037Z
LAST-MODIFIED:20251114T160939Z
UID:20167-1764232200-1764244800@dentalesmarket.com
SUMMARY:Discovery Day Dexis -  27 de Noviembre
DESCRIPTION:Vive un día de innovación y aprendizaje en odontología digital: \n\nDemostraciones en vivo\nWorkshops prácticos\nCasos clínicos reales\nNetworking con colegas\nPrepárate para un día de descubrimiento\, innovación y aprendizaje que marcará un antes y un después en tu práctica clínica.\n\nCargando…
URL:https://dentalesmarket.com/evento/discovery-day-dexis-27-de-noviembre/
LOCATION:Hotel NH Collection\, Cra. 42 #5 - sur 130\, El Poblado\, Medellín\, Antioquia\, 050032\, Colombia
END:VEVENT
END:VCALENDAR